BEGIN:VCALENDAR
VERSION:2.0
PRODID:-//Chaffee County Democrats - ECPv6.15.14//NONSGML v1.0//EN
CALSCALE:GREGORIAN
METHOD:PUBLISH
X-ORIGINAL-URL:https://chaffeecountydemocrats.org
X-WR-CALDESC:Events for Chaffee County Democrats
REFRESH-INTERVAL;VALUE=DURATION:PT1H
X-Robots-Tag:noindex
X-PUBLISHED-TTL:PT1H
BEGIN:VTIMEZONE
TZID:America/Denver
BEGIN:DAYLIGHT
TZOFFSETFROM:-0700
TZOFFSETTO:-0600
TZNAME:MDT
DTSTART:20240310T090000
END:DAYLIGHT
BEGIN:STANDARD
TZOFFSETFROM:-0600
TZOFFSETTO:-0700
TZNAME:MST
DTSTART:20241103T080000
END:STANDARD
BEGIN:DAYLIGHT
TZOFFSETFROM:-0700
TZOFFSETTO:-0600
TZNAME:MDT
DTSTART:20250309T090000
END:DAYLIGHT
BEGIN:STANDARD
TZOFFSETFROM:-0600
TZOFFSETTO:-0700
TZNAME:MST
DTSTART:20251102T080000
END:STANDARD
BEGIN:DAYLIGHT
TZOFFSETFROM:-0700
TZOFFSETTO:-0600
TZNAME:MDT
DTSTART:20260308T090000
END:DAYLIGHT
BEGIN:STANDARD
TZOFFSETFROM:-0600
TZOFFSETTO:-0700
TZNAME:MST
DTSTART:20261101T080000
END:STANDARD
BEGIN:DAYLIGHT
TZOFFSETFROM:-0700
TZOFFSETTO:-0600
TZNAME:MDT
DTSTART:20270314T090000
END:DAYLIGHT
BEGIN:STANDARD
TZOFFSETFROM:-0600
TZOFFSETTO:-0700
TZNAME:MST
DTSTART:20271107T080000
END:STANDARD
END:VTIMEZONE
BEGIN:VEVENT
DTSTART;TZID=America/Denver:20251023T173000
DTEND;TZID=America/Denver:20251023T190000
DTSTAMP:20260422T050346
CREATED:20250823T164619Z
LAST-MODIFIED:20250923T210010Z
UID:10000017-1761240600-1761246000@chaffeecountydemocrats.org
SUMMARY:October Membership Meeting
DESCRIPTION:Join us for community building and camaraderie! Drinks on you\, we’ll provide the snacks!
URL:https://chaffeecountydemocrats.org/event/october-membership-meeting/
LOCATION:High Side! Bar & Grill\, 300 W Sackett Ave\, Salida\, CO\, 81201\, United States
ATTACH;FMTTYPE=image/jpeg:https://chaffeecountydemocrats.org/wp-content/uploads/2025/03/CCDEM_Membership_Meeting.jpg
END:VEVENT
BEGIN:VEVENT
DTSTART;TZID=America/Denver:20251213T170000
DTEND;TZID=America/Denver:20251213T190000
DTSTAMP:20260422T050346
CREATED:20251029T132819Z
LAST-MODIFIED:20251208T233228Z
UID:10000019-1765645200-1765652400@chaffeecountydemocrats.org
SUMMARY:Holiday Party
DESCRIPTION:Please join us for our Annual Holiday Party. Bring non-perishable food items or a monetary donation for the Chaffee County Food Drive!
URL:https://chaffeecountydemocrats.org/event/holiday-party/
LOCATION:Boathouse\, 228 N F St.\, Salida\, CO\, 81201\, United States
ATTACH;FMTTYPE=image/jpeg:https://chaffeecountydemocrats.org/wp-content/uploads/2025/10/Holiday-Party-scaled.jpg
END:VEVENT
BEGIN:VEVENT
DTSTART;TZID=America/Denver:20260122T173000
DTEND;TZID=America/Denver:20260122T183000
DTSTAMP:20260422T050346
CREATED:20260108T175349Z
LAST-MODIFIED:20260119T224403Z
UID:10000021-1769103000-1769106600@chaffeecountydemocrats.org
SUMMARY:Monthly Meeting
DESCRIPTION:Join us at the Deerhammer in Buena Vista from 5:30 to 7:00 pm this Thursday\, January 22nd. Local candidates and Democrats will be there to greet you and you can join in the conversation about upcoming elections processes\, how you can help elect Democrats and sign up to volunteer. Did I mention the snacks??
URL:https://chaffeecountydemocrats.org/event/monthly-meeting/
LOCATION:Deerhammer Distillery & Tasting Room\, 321 East Main Street\, Buena Vista\, CO\, 81211\, United States
CATEGORIES:Membership Meeting
ATTACH;FMTTYPE=image/jpeg:https://chaffeecountydemocrats.org/wp-content/uploads/2025/03/CCDEM_Membership_Meeting.jpg
END:VEVENT
BEGIN:VEVENT
DTSTART;TZID=America/Denver:20260129T173000
DTEND;TZID=America/Denver:20260129T190000
DTSTAMP:20260422T050346
CREATED:20260121T030722Z
LAST-MODIFIED:20260121T031311Z
UID:10000025-1769707800-1769713200@chaffeecountydemocrats.org
SUMMARY:Hear From Our Senate Candidates!
DESCRIPTION:Indivisible Colorado\, in partnership with the Democratic Women of Boulder County\, is hosting this event over zoom to hear from Senate Candidates on why they are the best choice to represent our state.  Colorado needs a strong senator who will stand up to Trump and form a united opposition to his efforts to destroy democracy\, due process\, and the Constitution.  Don’t sit on the sidelines!  Primaries are our opportunity to shape the Democratic party and hold politicians accountable. \n  \nRSVP on Mobilize
URL:https://chaffeecountydemocrats.org/event/hear-from-our-senate-candidates/
ATTACH;FMTTYPE=image/png:https://chaffeecountydemocrats.org/wp-content/uploads/2026/01/image.png
END:VEVENT
BEGIN:VEVENT
DTSTART;TZID=America/Denver:20260207T160000
DTEND;TZID=America/Denver:20260207T180000
DTSTAMP:20260422T050346
CREATED:20260127T025043Z
LAST-MODIFIED:20260127T025722Z
UID:10000026-1770480000-1770487200@chaffeecountydemocrats.org
SUMMARY:Organizing for the Midterms - Nathrop
DESCRIPTION:A House Party \nYou’re Invited to an Organizing House Party \nJoin friends and neighbors for an important gathering focused on building power and organizing for electoral victories in county\, state\, and national races. \nThis is a vital opportunity for us to come together and organize to defeat the authoritarian regime through the ballot box. Whether you are a longtime activist or newly engaged\, your participation is essential to victory in November. \n📍 Private Home in Nathrop • Address shared after RSVP. \nEmail alex@chaffeecountydemocrats.org to RSVP.
URL:https://chaffeecountydemocrats.org/event/organizing-for-the-midterms/
LOCATION:Nathrop\, Nathrop\, CO\, United States
ATTACH;FMTTYPE=image/png:https://chaffeecountydemocrats.org/wp-content/uploads/2026/01/Org_Midterms.png
END:VEVENT
BEGIN:VEVENT
DTSTART;TZID=America/Denver:20260218T103000
DTEND;TZID=America/Denver:20260218T113000
DTSTAMP:20260422T050346
CREATED:20260216T214855Z
LAST-MODIFIED:20260217T134109Z
UID:10000031-1771410600-1771414200@chaffeecountydemocrats.org
SUMMARY:Michael Bennet for Governor: Meet & Greet Salida
DESCRIPTION:CLICK HERE TO RSVP\nLocation shared after RSVP
URL:https://chaffeecountydemocrats.org/event/michael-bennet-for-governor-meet-greet-salida/
ATTACH;FMTTYPE=image/jpeg:https://chaffeecountydemocrats.org/wp-content/uploads/2026/02/Michael-Bennet.jpg
END:VEVENT
BEGIN:VEVENT
DTSTART;TZID=America/Denver:20260221T160000
DTEND;TZID=America/Denver:20260221T180000
DTSTAMP:20260422T050346
CREATED:20260127T025127Z
LAST-MODIFIED:20260204T023109Z
UID:10000027-1771689600-1771696800@chaffeecountydemocrats.org
SUMMARY:Organizing for the Midterms - Salida
DESCRIPTION:A House Party \nYou’re Invited to an Organizing House Party \nJoin friends and neighbors for an important gathering focused on building power and organizing for electoral victories in county\, state\, and national races. \nThis is a vital opportunity for us to come together and organize to defeat the authoritarian regime through the ballot box. Whether you are a longtime activist or newly engaged\, your participation is essential to victory in November. \n📍 Private Home in Salida • Address shared a few days prior to the event!
URL:https://chaffeecountydemocrats.org/event/organizing-for-the-midterms-2/
LOCATION:Salida\, Salida\, CO\, United States
ATTACH;FMTTYPE=image/png:https://chaffeecountydemocrats.org/wp-content/uploads/2026/01/Org_Midterms.png
END:VEVENT
BEGIN:VEVENT
DTSTART;TZID=America/Denver:20260226T173000
DTEND;TZID=America/Denver:20260226T183000
DTSTAMP:20260422T050346
CREATED:20260119T225005Z
LAST-MODIFIED:20260127T044414Z
UID:10000022-1772127000-1772130600@chaffeecountydemocrats.org
SUMMARY:Monthly Meeting - Salida
DESCRIPTION:February Monthly Meeting will be held in Salida @ HighSide!
URL:https://chaffeecountydemocrats.org/event/monthly-meeting-2/
LOCATION:High Side! Bar & Grill\, 300 W Sackett Ave\, Salida\, CO\, 81201\, United States
CATEGORIES:Membership Meeting
ATTACH;FMTTYPE=image/jpeg:https://chaffeecountydemocrats.org/wp-content/uploads/2025/03/CCDEM_Membership_Meeting.jpg
END:VEVENT
BEGIN:VEVENT
DTSTART;TZID=America/Denver:20260228T173000
DTEND;TZID=America/Denver:20260228T190000
DTSTAMP:20260422T050346
CREATED:20260216T191450Z
LAST-MODIFIED:20260216T191810Z
UID:10000030-1772299800-1772305200@chaffeecountydemocrats.org
SUMMARY:Jena Griswold for Attorney General : Salida Reception
DESCRIPTION:RSVP Online Here\nLocation provided upon RSVP \nPlease contact events@jenaforcolorado.com with any questions. \n  \n 
URL:https://chaffeecountydemocrats.org/event/jena-griswold-for-attorney-general-salida-reception/
ATTACH;FMTTYPE=image/jpeg:https://chaffeecountydemocrats.org/wp-content/uploads/2026/02/Jena-Griswold-Event.jpg
END:VEVENT
BEGIN:VEVENT
DTSTART;TZID=America/Denver:20260307T110000
DTEND;TZID=America/Denver:20260307T130000
DTSTAMP:20260422T050346
CREATED:20251111T011050Z
LAST-MODIFIED:20260303T014356Z
UID:10000020-1772881200-1772888400@chaffeecountydemocrats.org
SUMMARY:Caucus & Assembly
DESCRIPTION:The Chaffee County Democratic Caucus  and Assembly will be held at the Salida Middle School on Saturday\, March 7th\, from 11:00 am to 1:00 pm. We will elect new Precinct Organizers and nominate candidates for county-level offices to appear on the primary ballot and also to elect delegates who will represent Chaffee County at congressional district and statewide assemblies. You must be a registered Democrat to participate. The work that has been done toward electing Democrats is amazing and we are incredibly proud of all those that helped. But let’s be honest\, there is a lot to do. We encourage you to step up–the upcoming caucus and assembly is a great place to engage and to build on our accomplishments. \n		\n				\n					\n				\n				\n							\n						\n				\n					 Caucus & Assembly: Request for Accommodation - Click to Open Form \n							\n			\n			\n		\n\n						\n				\n				\n				\n					  Loading…  				\n				\n				\n					\n					\n						\n				\n					\n				\n				\n		\n  \nWhat is Caucus & Assembly? (Click to Learn More!)
URL:https://chaffeecountydemocrats.org/event/caucus-assembly/
LOCATION:Salida Middle School\, 520 Milford St\, Salida\, CO\, 81201\, United States
ATTACH;FMTTYPE=image/jpeg:https://chaffeecountydemocrats.org/wp-content/uploads/2025/11/Caucus_Assembly.jpg
END:VEVENT
BEGIN:VEVENT
DTSTART;TZID=America/Denver:20260328T120000
DTEND;TZID=America/Denver:20260328T143000
DTSTAMP:20260422T050346
CREATED:20260318T150730Z
LAST-MODIFIED:20260318T151459Z
UID:10000032-1774699200-1774708200@chaffeecountydemocrats.org
SUMMARY:No Kings Chaffee County
DESCRIPTION:**We have the power and are claiming it together. No Thrones. No Crowns. No Kings.** \nWhat began in 2025 as a single day of defiance has become a sustained national resistance to tyranny\, spreading from small towns to city centers and across every community determined to defend democracy. Our peaceful movement is bigger than ever. When our families are under attack and costs are pushing people to the brink\, we will defend ourselves and our communities against this administration’s unjust and cruel acts of violence. \nOn March 28th\, rise up\, take to the streets\, and say it loud: no thrones\, no crowns\, no kings. We’re not watching history happen—we’re making it. Join us. They can’t take away our joy and love for our country! 💕 \n👉👉IMPORTANT INFO: We will gather at noon at Alpine Park (5th and F Streets) in Salida and march down F St to Riverside Park. When marchers arrive at Riverside\, there will be music\, political theater and a Democracy Fair\, where local community groups will have tables with information about their organization and how you can take action. A rally with dynamic speakers will begin at 1:00 pm. The event is over at 2:30 pm. We will also be collecting donations for mutual aid. More info to come… \n*A core principle behind all No Kings events is a commitment to nonviolent action. We expect all participants to seek to de-escalate any potential confrontation with those who disagree with our values and to act lawfully at these events. Weapons of any kind\, including those legally permitted\, should not be brought to events.* \nLearn More & RSVP Here\nThis event is hosted by an individual group or partner organization.
URL:https://chaffeecountydemocrats.org/event/no-kings-chaffee-county/
LOCATION:Alpine Park\, 120 E 4th St\, Salida\, CO\, 81201\, United States
ATTACH;FMTTYPE=image/png:https://chaffeecountydemocrats.org/wp-content/uploads/2026/03/Screenshot-2026-03-18-at-8.55.33-AM.png
END:VEVENT
BEGIN:VEVENT
DTSTART;TZID=America/Denver:20260403T110000
DTEND;TZID=America/Denver:20260403T120000
DTSTAMP:20260422T050346
CREATED:20260325T144251Z
LAST-MODIFIED:20260325T144313Z
UID:10000034-1775214000-1775217600@chaffeecountydemocrats.org
SUMMARY:Chaffee County Meet & Greet with Michael Bennet
DESCRIPTION:RSVP HERE \nLocation shared after RSVP
URL:https://chaffeecountydemocrats.org/event/chaffee-county-meet-greet-with-michael-bennet/
LOCATION:Salida\, Salida\, CO\, United States
CATEGORIES:Campaign Event
ATTACH;FMTTYPE=image/jpeg:https://chaffeecountydemocrats.org/wp-content/uploads/2026/03/Feature_MG.jpg
END:VEVENT
BEGIN:VEVENT
DTSTART;TZID=America/Denver:20260415T173000
DTEND;TZID=America/Denver:20260415T193000
DTSTAMP:20260422T050346
CREATED:20260325T130820Z
LAST-MODIFIED:20260325T131127Z
UID:10000033-1776274200-1776281400@chaffeecountydemocrats.org
SUMMARY:Town Hall: What happens in Chaffee County when ICE agents are present?
DESCRIPTION:This event is hosted by Chaffee Immigrant Partnership Team and Ark Valley Indivisible. \nICE activity has increased across Colorado\, including in rural areas. Our community has also been touched\, and many residents have expressed concern about the impact on families and neighbors. Questions are circulating: Will we see more ICE agents locally? How are our institutions prepared? What plans are in place? How do local law enforcement agencies interact with ICE?\n\nJoin the Chaffee Immigrant Partnership Team and Ark Valley Indivisible in this town hall to hear directly from local leaders about how our community responds\, how agencies coordinate\, and what residents can expect when immigration enforcement occurs locally.\n\nPanelists include:\n\nChaffee County Sheriff Andy Rohrich\nSalida Police Chief Russ Johnson\nSalida School Superintendent David Blackburn\nMayor Justin Critelli\nChaffee County Commissioner P.T. Wood\n\nThey will address:\n\nCurrent policies and procedures\nHow the Sheriff’s Office and Police Department interact with and respond to ICE\nWhen and how local agencies coordinate or communicate with federal immigration authorities\nThe policies and responsibilities of the school district\nHow local agencies coordinate with each other\nHow information would be communicated to the public\nWhat residents should do if they suspect ICE activity\n\nClear information helps reduce uncertainty. This town hall gives residents an opportunity to hear directly from local leaders and ask questions about how our community responds to ICE actions.\n\nThe event will include a moderated Q&A session with attendees. Community members are invited to submit questions in advance when registering on Mobilize. (There is a prompt after your contact info on the registration page to submit a question.) Not all questions will be addressed in this time frame but we will consolidate themes to have the panelists respond to as many as possible. Attendance will be capped based on the allowable number of persons per the fire dept for the venue. We encourage you to register at https://www.mobilize.us/arkvalleyindivisible/event/918613/  asap so we can plan on attendance. You can also scan the QR code on the card below.\n\nIf we reach the limit on registrations\, a waiting list will be created online and you will be notified if a space opens. You can chance coming to the door without registering\, but if we reach maximum\, you will not be able to attend if your name is not on our list. So don’t wait! Sign up now while it’s fresh in your mind!\n\nDate:  Wednesday\, April 15\, 2026\nTime:  6:00 – 7:30 PM (Doors open at 5:30pm)\nLocation:  Salida High School Gym\nPlease do not bring large backpacks or bags – we want to be able to quickly scan everyone’s personal items to ensure everyone’s safety. No weapons or drugs of any kind!\nEveryone is welcome! Please share this information with your friends and neighbors! \nREGISTER HERE
URL:https://chaffeecountydemocrats.org/event/town-hall-what-happens-in-chaffee-county-when-ice-agents-are-present/
LOCATION:Salida High School Gym\, 26 Jones Ave\, Salida\, CO\, 81201`1\, United States
CATEGORIES:Community Event
ATTACH;FMTTYPE=image/jpeg:https://chaffeecountydemocrats.org/wp-content/uploads/2026/03/ICE_EVENT.jpg
END:VEVENT
BEGIN:VEVENT
DTSTART;TZID=America/Denver:20260416T170000
DTEND;TZID=America/Denver:20260416T180000
DTSTAMP:20260422T050346
CREATED:20260404T033105Z
LAST-MODIFIED:20260404T033337Z
UID:10000035-1776358800-1776362400@chaffeecountydemocrats.org
SUMMARY:Organizing For The Midterms
DESCRIPTION:This is a virtual meeting from 5-6 PM.  We will learn about landscape of the midterms in Chaffee County.  Candidates will tell us about their races and how you can help.  We will discuss the teams needed for victory for our candidates. \nRSVP and we will email you the virtual meeting zoom link!
URL:https://chaffeecountydemocrats.org/event/organizing-for-the-midterms-3/
ATTACH;FMTTYPE=image/png:https://chaffeecountydemocrats.org/wp-content/uploads/2026/04/Organizing2.png
END:VEVENT
BEGIN:VEVENT
DTSTART;TZID=America/Denver:20260423T173000
DTEND;TZID=America/Denver:20260423T183000
DTSTAMP:20260422T050346
CREATED:20260119T225051Z
LAST-MODIFIED:20260309T023043Z
UID:10000023-1776965400-1776969000@chaffeecountydemocrats.org
SUMMARY:Monthly Meeting - Buena Vista
DESCRIPTION:April Monthly Meeting will be held in Buena Vista. Location TBD and will be updated once confirmed! Check back for details.
URL:https://chaffeecountydemocrats.org/event/monthly-meeting-3/
CATEGORIES:Membership Meeting
ATTACH;FMTTYPE=image/jpeg:https://chaffeecountydemocrats.org/wp-content/uploads/2025/03/CCDEM_Membership_Meeting.jpg
END:VEVENT
BEGIN:VEVENT
DTSTART;TZID=America/Denver:20260528T173000
DTEND;TZID=America/Denver:20260528T183000
DTSTAMP:20260422T050346
CREATED:20260119T225144Z
LAST-MODIFIED:20260309T023058Z
UID:10000024-1779989400-1779993000@chaffeecountydemocrats.org
SUMMARY:Monthly Meeting - Salida
DESCRIPTION:May Monthly Meeting will be held in Salida. Location TBD and will be updated once confirmed! Check back for details.
URL:https://chaffeecountydemocrats.org/event/monthly-meeting-4/
CATEGORIES:Membership Meeting
ATTACH;FMTTYPE=image/jpeg:https://chaffeecountydemocrats.org/wp-content/uploads/2025/03/CCDEM_Membership_Meeting.jpg
END:VEVENT
END:VCALENDAR