BEGIN:VCALENDAR
VERSION:2.0
PRODID:-//Chaffee County Democrats - ECPv6.15.14//NONSGML v1.0//EN
CALSCALE:GREGORIAN
METHOD:PUBLISH
X-ORIGINAL-URL:https://chaffeecountydemocrats.org
X-WR-CALDESC:Events for Chaffee County Democrats
REFRESH-INTERVAL;VALUE=DURATION:PT1H
X-Robots-Tag:noindex
X-PUBLISHED-TTL:PT1H
BEGIN:VTIMEZONE
TZID:America/Denver
BEGIN:DAYLIGHT
TZOFFSETFROM:-0700
TZOFFSETTO:-0600
TZNAME:MDT
DTSTART:20240310T090000
END:DAYLIGHT
BEGIN:STANDARD
TZOFFSETFROM:-0600
TZOFFSETTO:-0700
TZNAME:MST
DTSTART:20241103T080000
END:STANDARD
BEGIN:DAYLIGHT
TZOFFSETFROM:-0700
TZOFFSETTO:-0600
TZNAME:MDT
DTSTART:20250309T090000
END:DAYLIGHT
BEGIN:STANDARD
TZOFFSETFROM:-0600
TZOFFSETTO:-0700
TZNAME:MST
DTSTART:20251102T080000
END:STANDARD
BEGIN:DAYLIGHT
TZOFFSETFROM:-0700
TZOFFSETTO:-0600
TZNAME:MDT
DTSTART:20260308T090000
END:DAYLIGHT
BEGIN:STANDARD
TZOFFSETFROM:-0600
TZOFFSETTO:-0700
TZNAME:MST
DTSTART:20261101T080000
END:STANDARD
END:VTIMEZONE
BEGIN:VEVENT
DTSTART;TZID=America/Denver:20250506T070000
DTEND;TZID=America/Denver:20250506T190000
DTSTAMP:20260420T053928
CREATED:20250501T181832Z
LAST-MODIFIED:20250501T181832Z
UID:10000008-1746514800-1746558000@chaffeecountydemocrats.org
SUMMARY:HRRMC Board Election
DESCRIPTION:The Salida Hospital District is governed by a five-person board of directors\, whose members serve staggered\, four-year terms. Directors are elected at-large from the community. Elections are held every two years in odd-numbered years. In 2025\, there are three director positions open to run for. \nHow to vote in the Board of Directors Election:\nYou may cast your vote on Tuesday\, May 6\, 2025 from 7 a.m. – 7 p.m. \nPolling places: \nSalida:\nHRRMC main hospital campus\n1000 Rush Drive\, Salida\, CO 81201\n2nd floor conference rooms \nBuena Vista:\nMountain Heights Church\n28390 County Road 317\, Buena Vista\, CO 81211
URL:https://chaffeecountydemocrats.org/event/hrrmc-board-election/
LOCATION:Heart of the Rockies Regional Medical Center\, 1000 Rush Drive\, Salida\, CO\, 81201\, United States
ATTACH;FMTTYPE=image/jpeg:https://chaffeecountydemocrats.org/wp-content/uploads/2025/05/HRRMC-Election.jpeg
END:VEVENT
END:VCALENDAR