BEGIN:VCALENDAR
VERSION:2.0
PRODID:-//Chaffee County Democrats - ECPv6.15.14//NONSGML v1.0//EN
CALSCALE:GREGORIAN
METHOD:PUBLISH
X-WR-CALNAME:Chaffee County Democrats
X-ORIGINAL-URL:https://chaffeecountydemocrats.org
X-WR-CALDESC:Events for Chaffee County Democrats
REFRESH-INTERVAL;VALUE=DURATION:PT1H
X-Robots-Tag:noindex
X-PUBLISHED-TTL:PT1H
BEGIN:VTIMEZONE
TZID:America/Denver
BEGIN:DAYLIGHT
TZOFFSETFROM:-0700
TZOFFSETTO:-0600
TZNAME:MDT
DTSTART:20240310T090000
END:DAYLIGHT
BEGIN:STANDARD
TZOFFSETFROM:-0600
TZOFFSETTO:-0700
TZNAME:MST
DTSTART:20241103T080000
END:STANDARD
BEGIN:DAYLIGHT
TZOFFSETFROM:-0700
TZOFFSETTO:-0600
TZNAME:MDT
DTSTART:20250309T090000
END:DAYLIGHT
BEGIN:STANDARD
TZOFFSETFROM:-0600
TZOFFSETTO:-0700
TZNAME:MST
DTSTART:20251102T080000
END:STANDARD
BEGIN:DAYLIGHT
TZOFFSETFROM:-0700
TZOFFSETTO:-0600
TZNAME:MDT
DTSTART:20260308T090000
END:DAYLIGHT
BEGIN:STANDARD
TZOFFSETFROM:-0600
TZOFFSETTO:-0700
TZNAME:MST
DTSTART:20261101T080000
END:STANDARD
END:VTIMEZONE
BEGIN:VEVENT
DTSTART;TZID=America/Denver:20250510T160000
DTEND;TZID=America/Denver:20250510T180000
DTSTAMP:20260422T052133
CREATED:20250311T044410Z
LAST-MODIFIED:20250501T181125Z
UID:10000005-1746892800-1746900000@chaffeecountydemocrats.org
SUMMARY:2nd Annual Chaffee County Democrats Fundraiser
DESCRIPTION:PURCHASE TICKETS HERE\nPlease join us at our Annual Chaffee County Democratic Fundraiser on May 10th. Chaffee needs you NOW\, and we are making a difference. Democratic Commissioners such as Keith Baker and P.T. Wood have driven positive change in Chaffee\, including a new Land Use Code\, and the upcoming new Recycling center. \nLast year’s Fundraising event\, featuring Representative Brittany Pettersen and Colorado House Speaker Julie McCluskie and attended by 105 people\, contributed directly to our resounding local success in the polls. \nOur local 2024 election highlights include: \n\nAchieving an 86% voter turnout in the county!\n(Re)electing women to office at 3 levels of government:\n\nRepresentative Pettersen\, House Speaker McCluskie\, and freshman County Commissioner Gina Lucrezi.\n\n\nElecting 2 new Democratic County Commissioners\, Dave Armstrong and Gina Lucrezi\nVoting predominantly for Kamala Harris.\n\nAccording to researcher Dave Wasserman\, Chaffee was “Among the very few places where Harris improved on Biden’s ’20 margins.” We were +6.8 in Nov. 2024! While much of the country turned red\, Chaffee became significantly more blue in 2024! \nPlease join us at this exclusive event LIMITED TO 200 PEOPLE with the following elected officials to kick-off the 2025 / 2026 campaigns of our Democratic Candidates\, as well as to support positive progress in Chaffee County. \nBuy tickets HERE: https://secure.actblue.com/donate/2nd-annual-fundraiser \nThe proposed line-up of speakers features local politicians including our 3 Democratic County Commissioners\, PT Wood\, Dave Armstrong\, and Gina Lucrezi. We also have commitments\, pending schedule changes\, from: US Representative Brittany Pettersen\, CO Senator James Coleman – President of the CO Senate\, CO House Speaker Julie McCluskie\, plus Colorado Democratic Party Chair\, Shad Murib. Finally we have commitments for recorded addresses from Attorney General Phil Weiser and Senator Mike Bennet.
URL:https://chaffeecountydemocrats.org/event/2025-spring-fundraiser/
LOCATION:Salida Steamplant Ballroom\, 220 W Sackett Ave\, Salida\, CO\, 81201\, United States
ATTACH;FMTTYPE=image/jpeg:https://chaffeecountydemocrats.org/wp-content/uploads/2025/03/CCDEM_Fundraiser.jpg
END:VEVENT
END:VCALENDAR